BEGIN:VCALENDAR
VERSION:2.0
PRODID:-//wp-events-plugin.com//7.2.3.1//EN
BEGIN:VEVENT
UID:30@missourivendorassociation.com
DTSTART;TZID=America/Chicago:20260925T000000
DTEND;TZID=America/Chicago:20260927T000000
DTSTAMP:20260116T103628Z
URL:https://www.missourivendorassociation.com/events_calendar/2nd-whimsica
 l-wonders-craft-and-oddities-expo/
SUMMARY:2nd Whimsical Wonders Craft and Oddities Expo
DESCRIPTION:Step into a woodland wonder where curiosity leads the way. Whim
 sical Wonders Craft and Oddities Expo is a magical gathering of the strang
 e\, the creative\, and the wonderfully unexpected. Discover a curated coll
 ection of handcrafted artisan goods alongside the obscure and the bizarre
 —from taxidermy and preserved specimens to one-of-a-kind jewelry\, origi
 nal art\, and wonderfully peculiar clothing. Whether you’re a collector\
 , a dreamer\, a treasure hunter or simply a lover of all things unusual\, 
 you’ll find kindred spirits and enchanting finds around every corner.\n\
 nWith cool classes door prizes 100+ vendors food games including d&amp\;d 
 Majik board games a scavenger hunt Vendor bingo roll the dice photo booth 
 costume contest and so much more\n\n2nd Whimsical Wonders Craft and Odditi
 es Expo \nSeptember 25th-27th \nLebanon Missouri \nhttps://www.facebook.co
 m/share/1Ety1N1Tz5/
ATTACH;FMTTYPE=image/jpeg:https://www.missourivendorassociation.com/wp-con
 tent/uploads/2026/01/inbound5977738316031031553.jpg
CATEGORIES:Central,Southwest
LOCATION:Kenneth E. Cowan Civic Center\, 500 E Elm St\, Lebanon \, Mo\, 655
 36\, United States
X-APPLE-STRUCTURED-LOCATION;VALUE=URI;X-ADDRESS=500 E Elm St\, Lebanon \, M
 o\, 65536\, United States;X-APPLE-RADIUS=100;X-TITLE=Kenneth E. Cowan Civi
 c Center:geo:0,0
END:VEVENT
BEGIN:VTIMEZONE
TZID:America/Chicago
X-LIC-LOCATION:America/Chicago
BEGIN:DAYLIGHT
DTSTART:20260308T030000
TZOFFSETFROM:-0600
TZOFFSETTO:-0500
TZNAME:CDT
END:DAYLIGHT
END:VTIMEZONE
END:VCALENDAR