BEGIN:VCALENDAR
VERSION:2.0
PRODID:-//wp-events-plugin.com//7.2.3.1//EN
BEGIN:VEVENT
UID:23@missourivendorassociation.com
DTSTART;TZID=America/Chicago:20260502T100000
DTEND;TZID=America/Chicago:20260502T150000
DTSTAMP:20250620T172101Z
URL:https://www.missourivendorassociation.com/events_calendar/buffalo-mo-a
 rt-walk-and-craft-fair-2/
SUMMARY:Buffalo MO Art Walk and Craft Fair
DESCRIPTION:This is our 14th annual Art Walk and Craft Fair. Local artists 
 and crafters come together to showcase and sell their beautiful creations.
 \n\nFamily friendly with activities for all ages. There will be activities
  for kids\, like rock painting and a bounce house.\n\nAll ages can enjoy p
 articipating in the artist trading cards\, a fun social activity to bring 
 out your inner artist.\n\nThere will be demonstrations\, food\, and an art
  gallery.\n\nWww.Facebook.com/BuffaloMOArtWalk\n
ATTACH;FMTTYPE=image/jpeg:https://www.missourivendorassociation.com/wp-con
 tent/uploads/2025/06/1000015841.jpg
CATEGORIES:Southwest
LOCATION:Buffalo MO Downtown Square\, 115 S Maple St\, Buffalo\, MO\, 65622
 \, United States
X-APPLE-STRUCTURED-LOCATION;VALUE=URI;X-ADDRESS=115 S Maple St\, Buffalo\, 
 MO\, 65622\, United States;X-APPLE-RADIUS=100;X-TITLE=Buffalo MO Downtown 
 Square:geo:0,0
END:VEVENT
BEGIN:VTIMEZONE
TZID:America/Chicago
X-LIC-LOCATION:America/Chicago
BEGIN:DAYLIGHT
DTSTART:20260308T030000
TZOFFSETFROM:-0600
TZOFFSETTO:-0500
TZNAME:CDT
END:DAYLIGHT
END:VTIMEZONE
END:VCALENDAR