BEGIN:VCALENDAR
VERSION:2.0
PRODID:-//wp-events-plugin.com//7.2.3.1//EN
BEGIN:VEVENT
UID:29@missourivendorassociation.com
DTSTART;TZID=America/Chicago:20260502T000000
DTEND;TZID=America/Chicago:20260503T000000
DTSTAMP:20260116T102859Z
URL:https://www.missourivendorassociation.com/events_calendar/into-the-woo
 ds-craft-and-oddities-expo/
SUMMARY:Into the Woods Craft and Oddities Expo
DESCRIPTION:Step into a woodland wonder where curiosity leads the way. Into
  the Woods Craft and Oddities Show is a magical gathering of the strange\,
  the creative\, and the wonderfully unexpected. Discover a curated collect
 ion of handcrafted artisan goods alongside the obscure and the bizarre—f
 rom taxidermy and preserved specimens to one-of-a-kind jewelry\, original 
 art\, and wonderfully peculiar clothing. Whether you’re a collector\, a 
 dreamer\, a treasure hunter or simply a lover of all things unusual\, you
 ’ll find kindred spirits and enchanting finds around every corner.\n\n1s
 t Into The Woods Craft and Oddities Expo \nMay 2nd and 3rd\nWashington \nh
 ttps://facebook.com/events/s/into-the-woods-craft-and-oddit/86453952313269
 1/
ATTACH;FMTTYPE=image/jpeg:https://www.missourivendorassociation.com/wp-con
 tent/uploads/2026/01/inbound8542348063251856656.jpg
CATEGORIES:Central,Northeast
LOCATION:N-Sport Rec Center\, 3101 Recreation Dr\, Washington\, Mo\, 63090\
 , United States
X-APPLE-STRUCTURED-LOCATION;VALUE=URI;X-ADDRESS=3101 Recreation Dr\, Washin
 gton\, Mo\, 63090\, United States;X-APPLE-RADIUS=100;X-TITLE=N-Sport Rec C
 enter:geo:0,0
END:VEVENT
BEGIN:VTIMEZONE
TZID:America/Chicago
X-LIC-LOCATION:America/Chicago
BEGIN:DAYLIGHT
DTSTART:20260308T030000
TZOFFSETFROM:-0600
TZOFFSETTO:-0500
TZNAME:CDT
END:DAYLIGHT
END:VTIMEZONE
END:VCALENDAR